BEGIN:VCALENDAR
VERSION:2.0
PRODID:-//Writers Alliance of Gainesville - ECPv6.15.20//NONSGML v1.0//EN
CALSCALE:GREGORIAN
METHOD:PUBLISH
X-WR-CALNAME:Writers Alliance of Gainesville
X-ORIGINAL-URL:https://writersalliance.org
X-WR-CALDESC:Events for Writers Alliance of Gainesville
REFRESH-INTERVAL;VALUE=DURATION:PT1H
X-Robots-Tag:noindex
X-PUBLISHED-TTL:PT1H
BEGIN:VTIMEZONE
TZID:America/New_York
BEGIN:DAYLIGHT
TZOFFSETFROM:-0500
TZOFFSETTO:-0400
TZNAME:EDT
DTSTART:20250309T070000
END:DAYLIGHT
BEGIN:STANDARD
TZOFFSETFROM:-0400
TZOFFSETTO:-0500
TZNAME:EST
DTSTART:20251102T060000
END:STANDARD
BEGIN:DAYLIGHT
TZOFFSETFROM:-0500
TZOFFSETTO:-0400
TZNAME:EDT
DTSTART:20260308T070000
END:DAYLIGHT
BEGIN:STANDARD
TZOFFSETFROM:-0400
TZOFFSETTO:-0500
TZNAME:EST
DTSTART:20261101T060000
END:STANDARD
BEGIN:DAYLIGHT
TZOFFSETFROM:-0500
TZOFFSETTO:-0400
TZNAME:EDT
DTSTART:20270314T070000
END:DAYLIGHT
BEGIN:STANDARD
TZOFFSETFROM:-0400
TZOFFSETTO:-0500
TZNAME:EST
DTSTART:20271107T060000
END:STANDARD
END:VTIMEZONE
BEGIN:VEVENT
DTSTART;TZID=America/New_York:20260308T143000
DTEND;TZID=America/New_York:20260308T160000
DTSTAMP:20260424T135940
CREATED:20260125T125240Z
LAST-MODIFIED:20260127T175601Z
UID:31502-1772980200-1772985600@writersalliance.org
SUMMARY:Passion Dey Couldn’t Steal by Pamela Marshall-Koons
DESCRIPTION:Join us for Pamela Marshall-Koons’ Passion Dey Couldn’t Steal\, a powerful one-woman theatrical work inspired by the life\, voice\, and legacy of author Zora Neale Hurston. \nThose who saw this performance at the Sunshine State Book Festival raved about it. Many said they would love to see it again. And if you missed it\, here is your chance. \nThe Writers Alliance is grateful to Pamela Marshall-Koons for her willingness to perform again on March 8\, 2026\, at 2:30 p.m.\, at the Millhopper Branch of the Alachua County Library. \nThrough story\, movement\, music\, and embodied narration\, the play explores Zora Neale Hurston’s unwavering devotion to truth\, creativity\, and self-definition in the face of racism\, sexism\, and erasure. \nThis intimate performance invites audiences into Zora’s world—from Eatonville to Harlem—while reflecting on the enduring power of voice\, cultural memory\, and spiritual resilience. It is both a tribute and a testimony\, reminding us that passion\, once claimed\, cannot be taken. \nPamela Marshall-Koons is a writer\, performer\, and cultural storyteller whose work centers healing\, forgiveness\, and remembrance. Her artistic practice blends history\, spirituality\, and lived experience\, bringing forward voices that have shaped American culture while inviting audiences into reflection and restoration. Through literature\, theater\, and community engagement\, she creates spaces where truth can be spoken\, stories can be reclaimed\, and the human spirit can be honored with grace and courage. \nShe is the creator of this acclaimed one-woman performance and the author of When Zora Spoke – I Remembered My Name. She wrote the book while writing the play. \n              Zora Neale Hurston’s last home\n“The book encourages us to Remember Who We Are\,” Pamela said. “That is what Zora inspires in me. I am donating the proceeds from the sale of the book and my performances to help restore Ms. Zora’s last home in Fort Pierce.” \nThe book can be purchased at www.pameladmarshall.com or at the event on March 8. A book signing will follow the program\, which is free and open to the public.  \nParking: If the library lot is full\, you may park in the Florida Credit Union lot at 2831 NW 43rd Street\, Gainesville\, Fl 32606. \n 
URL:https://writersalliance.org/event/freedom-in-the-voices-black-women-writers-amplified-by-pamela-marshall-koons/
LOCATION:Millhopper Branch\, Alachua County Libraries\, 3145 NW 43rd St.\, Gainesville\, FL\, 32606\, United States
CATEGORIES:Speaker,Theatrical Performance
ATTACH;FMTTYPE=image/jpeg:https://writersalliance.org/wp-content/uploads/2025/01/Pamela2.jpg
END:VEVENT
END:VCALENDAR